Package: RCy3 Version: 2.30.0 Command: /home/biocbuild/bbs-3.22-bioc/R/bin/R CMD check --install=check:RCy3.install-out.txt --library=/home/biocbuild/bbs-3.22-bioc/R/site-library --timings RCy3_2.30.0.tar.gz StartedAt: 2025-11-03 03:26:45 -0500 (Mon, 03 Nov 2025) EndedAt: 2025-11-03 03:28:21 -0500 (Mon, 03 Nov 2025) EllapsedTime: 96.1 seconds RetCode: 0 Status: OK CheckDir: RCy3.Rcheck Warnings: 0