Package: RCy3 Version: 2.30.0 Command: /home/biocbuild/bbs-3.22-bioc/R/bin/R CMD build --keep-empty-dirs --no-resave-data --md5 RCy3 StartedAt: 2025-10-31 19:43:24 -0400 (Fri, 31 Oct 2025) EndedAt: 2025-10-31 19:43:58 -0400 (Fri, 31 Oct 2025) EllapsedTime: 34.1 seconds RetCode: 0 Status: OK PackageFile: RCy3_2.30.0.tar.gz PackageFileSize: 6.482 MiB