Package: RCX Version: 1.13.0 Command: rm -rf RCX.buildbin-libdir && mkdir RCX.buildbin-libdir && F:\biocbuild\bbs-3.22-bioc\R\bin\R.exe CMD INSTALL --build --library=RCX.buildbin-libdir RCX_1.13.0.tar.gz StartedAt: 2025-08-15 11:04:31 -0400 (Fri, 15 Aug 2025) EndedAt: 2025-08-15 11:05:52 -0400 (Fri, 15 Aug 2025) EllapsedTime: 81.6 seconds RetCode: 0 Status: OK PackageFile: RCX_1.13.0.zip PackageFileSize: 3.617 MiB