Package: RCX Version: 1.14.0 Command: /home/biocbuild/bbs-3.22-bioc/R/bin/R CMD check --install=check:RCX.install-out.txt --library=/home/biocbuild/bbs-3.22-bioc/R/site-library --timings RCX_1.14.0.tar.gz StartedAt: 2025-11-07 03:06:11 -0500 (Fri, 07 Nov 2025) EndedAt: 2025-11-07 03:07:10 -0500 (Fri, 07 Nov 2025) EllapsedTime: 59.1 seconds RetCode: 0 Status: OK CheckDir: RCX.Rcheck Warnings: 0