Package: RCX Version: 1.14.0 Command: /home/biocbuild/bbs-3.22-bioc/R/bin/R CMD build --keep-empty-dirs --no-resave-data --md5 RCX StartedAt: 2025-11-06 19:33:15 -0500 (Thu, 06 Nov 2025) EndedAt: 2025-11-06 19:33:38 -0500 (Thu, 06 Nov 2025) EllapsedTime: 23.0 seconds RetCode: 0 Status: OK PackageFile: RCX_1.14.0.tar.gz PackageFileSize: 4.58 MiB