Package: RCSL Version: 1.18.0 Command: /home/biocbuild/R/R/bin/R CMD build --keep-empty-dirs --no-resave-data RCSL StartedAt: 2025-11-11 04:24:33 -0000 (Tue, 11 Nov 2025) EndedAt: 2025-11-11 04:25:17 -0000 (Tue, 11 Nov 2025) EllapsedTime: 44.0 seconds RetCode: 0 Status: OK PackageFile: RCSL_1.18.0.tar.gz PackageFileSize: 1.875 MiB