Package: RCSL Version: 1.17.0 Command: F:\biocbuild\bbs-3.22-bioc\R\bin\R.exe CMD check --no-multiarch --install=check:RCSL.install-out.txt --library=F:\biocbuild\bbs-3.22-bioc\R\library --no-vignettes --timings RCSL_1.17.0.tar.gz StartedAt: 2025-08-15 06:52:26 -0400 (Fri, 15 Aug 2025) EndedAt: 2025-08-15 07:01:06 -0400 (Fri, 15 Aug 2025) EllapsedTime: 520.6 seconds RetCode: 0 Status: OK CheckDir: RCSL.Rcheck Warnings: 0