Package: RCSL Version: 1.16.0 Command: chmod a+r RCSL -R && E:\biocbuild\bbs-3.21-bioc\R\bin\R.exe CMD build --keep-empty-dirs --no-resave-data RCSL StartedAt: 2025-08-14 21:37:38 -0400 (Thu, 14 Aug 2025) EndedAt: 2025-08-14 21:42:17 -0400 (Thu, 14 Aug 2025) EllapsedTime: 278.9 seconds RetCode: 0 Status: OK PackageFile: RCSL_1.16.0.tar.gz PackageFileSize: 1.822 MiB