Package: RCSL Version: 1.16.0 Command: rm -rf RCSL.buildbin-libdir && mkdir RCSL.buildbin-libdir && E:\biocbuild\bbs-3.21-bioc\R\bin\R.exe CMD INSTALL --build --library=RCSL.buildbin-libdir RCSL_1.16.0.tar.gz StartedAt: 2025-08-15 10:03:22 -0400 (Fri, 15 Aug 2025) EndedAt: 2025-08-15 10:03:43 -0400 (Fri, 15 Aug 2025) EllapsedTime: 21.4 seconds RetCode: 0 Status: OK PackageFile: RCSL_1.16.0.zip PackageFileSize: 2.885 MiB