Package: RCSL Version: 1.16.0 Command: /Library/Frameworks/R.framework/Resources/bin/R CMD INSTALL RCSL StartedAt: 2025-10-02 15:33:36 -0400 (Thu, 02 Oct 2025) EndedAt: 2025-10-02 15:33:54 -0400 (Thu, 02 Oct 2025) EllapsedTime: 18.7 seconds RetCode: 0 Status: OK