Package: RCSL Version: 1.16.0 Command: /Library/Frameworks/R.framework/Resources/bin/R CMD build --keep-empty-dirs --no-resave-data RCSL StartedAt: 2025-10-02 21:54:23 -0400 (Thu, 02 Oct 2025) EndedAt: 2025-10-02 21:55:29 -0400 (Thu, 02 Oct 2025) EllapsedTime: 66.1 seconds RetCode: 0 Status: OK PackageFile: RCSL_1.16.0.tar.gz PackageFileSize: 1.996 MiB