Package: RCSL Version: 1.16.0 Command: rm -rf RCSL.buildbin-libdir && mkdir RCSL.buildbin-libdir && /Users/biocbuild/BBS/utils/build-universal.sh RCSL_1.16.0.tar.gz /Library/Frameworks/R.framework/Resources/bin/R RCSL.buildbin-libdir StartedAt: 2025-10-03 14:16:52 -0400 (Fri, 03 Oct 2025) EndedAt: 2025-10-03 14:17:19 -0400 (Fri, 03 Oct 2025) EllapsedTime: 26.9 seconds RetCode: 0 Status: OK PackageFile: RCSL_1.16.0.tgz PackageFileSize: 3.06 MiB