Package: RBM Version: 1.42.0 Command: /home/biocbuild/R/R/bin/R CMD INSTALL RBM StartedAt: 2025-11-20 21:46:51 -0000 (Thu, 20 Nov 2025) EndedAt: 2025-11-20 21:47:22 -0000 (Thu, 20 Nov 2025) EllapsedTime: 31.5 seconds RetCode: 0 Status: OK