Package: RBM Version: 1.42.0 Command: /home/biocbuild/R/R/bin/R CMD check --install=check:RBM.install-out.txt --library=/home/biocbuild/R/R/site-library --no-vignettes --timings RBM_1.42.0.tar.gz StartedAt: 2025-11-21 14:41:46 -0000 (Fri, 21 Nov 2025) EndedAt: 2025-11-21 14:42:39 -0000 (Fri, 21 Nov 2025) EllapsedTime: 53.1 seconds RetCode: 0 Status: OK CheckDir: RBM.Rcheck Warnings: 0