Package: RBM Version: 1.42.0 Command: /home/biocbuild/R/R/bin/R CMD build --keep-empty-dirs --no-resave-data RBM StartedAt: 2025-11-21 05:03:32 -0000 (Fri, 21 Nov 2025) EndedAt: 2025-11-21 05:04:19 -0000 (Fri, 21 Nov 2025) EllapsedTime: 47.0 seconds RetCode: 0 Status: OK PackageFile: RBM_1.42.0.tar.gz PackageFileSize: 363.6 KiB