Package: RBM Version: 1.42.0 Command: /home/biocbuild/bbs-3.22-bioc/R/bin/R CMD build --keep-empty-dirs --no-resave-data --md5 RBM StartedAt: 2025-11-20 20:20:38 -0500 (Thu, 20 Nov 2025) EndedAt: 2025-11-20 20:21:08 -0500 (Thu, 20 Nov 2025) EllapsedTime: 30.0 seconds RetCode: 0 Status: OK PackageFile: RBM_1.42.0.tar.gz PackageFileSize: 371.2 KiB