Package: RBGL Version: 1.85.0 Command: chmod a+r RBGL -R && F:\biocbuild\bbs-3.22-bioc\R\bin\R.exe CMD build --keep-empty-dirs --no-resave-data RBGL StartedAt: 2025-08-14 22:37:42 -0400 (Thu, 14 Aug 2025) EndedAt: 2025-08-14 22:40:59 -0400 (Thu, 14 Aug 2025) EllapsedTime: 197.4 seconds RetCode: 0 Status: OK PackageFile: RBGL_1.85.0.tar.gz PackageFileSize: 2.425 MiB