Package: RBGL Version: 1.86.0 Command: /home/biocbuild/bbs-3.22-bioc/R/bin/R CMD check --install=check:RBGL.install-out.txt --library=/home/biocbuild/bbs-3.22-bioc/R/site-library --timings RBGL_1.86.0.tar.gz StartedAt: 2025-11-07 03:04:01 -0500 (Fri, 07 Nov 2025) EndedAt: 2025-11-07 03:05:10 -0500 (Fri, 07 Nov 2025) EllapsedTime: 69.1 seconds RetCode: 0 Status: WARNINGS CheckDir: RBGL.Rcheck Warnings: 1