Package: RAIDS Version: 1.6.1 Command: /Library/Frameworks/R.framework/Resources/bin/R CMD INSTALL RAIDS StartedAt: 2025-10-13 17:18:29 -0400 (Mon, 13 Oct 2025) EndedAt: 2025-10-13 17:19:34 -0400 (Mon, 13 Oct 2025) EllapsedTime: 64.6 seconds RetCode: 0 Status: OK