Package: RAIDS Version: 1.6.1 Command: rm -rf RAIDS.buildbin-libdir && mkdir RAIDS.buildbin-libdir && /Users/biocbuild/BBS/utils/build-universal.sh RAIDS_1.6.1.tar.gz /Library/Frameworks/R.framework/Resources/bin/R RAIDS.buildbin-libdir StartedAt: 2025-10-15 19:57:30 -0400 (Wed, 15 Oct 2025) EndedAt: 2025-10-15 19:58:42 -0400 (Wed, 15 Oct 2025) EllapsedTime: 72.1 seconds RetCode: 0 Status: OK PackageFile: RAIDS_1.6.1.tgz PackageFileSize: 2.786 MiB