Package: R3CPET Version: 1.41.0 Command: /home/biocbuild/R/R/bin/R CMD INSTALL R3CPET StartedAt: 2025-10-23 21:11:05 -0000 (Thu, 23 Oct 2025) EndedAt: 2025-10-23 21:12:43 -0000 (Thu, 23 Oct 2025) EllapsedTime: 97.6 seconds RetCode: 0 Status: OK