Package: QuasR Version: 1.48.1 Command: chmod a+r QuasR -R && E:\biocbuild\bbs-3.21-bioc\R\bin\R.exe CMD build --keep-empty-dirs --no-resave-data QuasR StartedAt: 2025-08-14 21:31:34 -0400 (Thu, 14 Aug 2025) EndedAt: 2025-08-14 21:37:26 -0400 (Thu, 14 Aug 2025) EllapsedTime: 352.5 seconds RetCode: 0 Status: OK PackageFile: QuasR_1.48.1.tar.gz PackageFileSize: 1.75 MiB