Package: QuasR Version: 1.48.1 Command: /Library/Frameworks/R.framework/Resources/bin/R CMD INSTALL QuasR StartedAt: 2025-10-13 16:41:01 -0400 (Mon, 13 Oct 2025) EndedAt: 2025-10-13 16:43:21 -0400 (Mon, 13 Oct 2025) EllapsedTime: 139.2 seconds RetCode: 0 Status: OK