Package: QuasR Version: 1.48.1 Command: rm -rf QuasR.buildbin-libdir && mkdir QuasR.buildbin-libdir && /Users/biocbuild/BBS/utils/build-universal.sh QuasR_1.48.1.tar.gz /Library/Frameworks/R.framework/Resources/bin/R QuasR.buildbin-libdir StartedAt: 2025-10-14 14:27:51 -0400 (Tue, 14 Oct 2025) EndedAt: 2025-10-14 14:30:43 -0400 (Tue, 14 Oct 2025) EllapsedTime: 172.5 seconds RetCode: 0 Status: OK PackageFile: QuasR_1.48.1.tgz PackageFileSize: 3.452 MiB