Package: QuasR Version: 1.48.1 Command: /home/biocbuild/R/R/bin/R CMD INSTALL QuasR StartedAt: 2025-10-13 21:13:51 -0000 (Mon, 13 Oct 2025) EndedAt: 2025-10-13 21:15:26 -0000 (Mon, 13 Oct 2025) EllapsedTime: 95.0 seconds RetCode: 0 Status: OK