Package: QuasR Version: 1.48.1 Command: /home/biocbuild/R/R/bin/R CMD build --keep-empty-dirs --no-resave-data QuasR StartedAt: 2025-10-14 03:47:10 -0000 (Tue, 14 Oct 2025) EndedAt: 2025-10-14 03:53:07 -0000 (Tue, 14 Oct 2025) EllapsedTime: 357.1 seconds RetCode: 0 Status: OK PackageFile: QuasR_1.48.1.tar.gz PackageFileSize: 2.342 MiB