Package: Qtlizer Version: 1.22.0 Command: rm -rf Qtlizer.buildbin-libdir && mkdir Qtlizer.buildbin-libdir && E:\biocbuild\bbs-3.21-bioc\R\bin\R.exe CMD INSTALL --build --library=Qtlizer.buildbin-libdir Qtlizer_1.22.0.tar.gz StartedAt: 2025-08-15 10:01:10 -0400 (Fri, 15 Aug 2025) EndedAt: 2025-08-15 10:01:16 -0400 (Fri, 15 Aug 2025) EllapsedTime: 6.4 seconds RetCode: 0 Status: OK PackageFile: Qtlizer_1.22.0.zip PackageFileSize: 239.7 KiB