Package: Qtlizer Version: 1.22.0 Command: /Library/Frameworks/R.framework/Resources/bin/R CMD INSTALL Qtlizer StartedAt: 2025-04-21 15:15:52 -0400 (Mon, 21 Apr 2025) EndedAt: 2025-04-21 15:15:56 -0400 (Mon, 21 Apr 2025) EllapsedTime: 4.0 seconds RetCode: 0 Status: OK