Package: Qtlizer Version: 1.22.0 Command: /Library/Frameworks/R.framework/Resources/bin/R CMD check --install=check:Qtlizer.install-out.txt --library=/Library/Frameworks/R.framework/Resources/library --no-vignettes --timings Qtlizer_1.22.0.tar.gz StartedAt: 2025-04-21 21:04:53 -0400 (Mon, 21 Apr 2025) EndedAt: 2025-04-21 21:05:13 -0400 (Mon, 21 Apr 2025) EllapsedTime: 20.2 seconds RetCode: 0 Status: OK CheckDir: Qtlizer.Rcheck Warnings: 0