Package: QUBIC Version: 1.36.0 Command: /home/biocbuild/bbs-3.21-bioc/R/bin/R CMD build --keep-empty-dirs --no-resave-data QUBIC StartedAt: 2025-10-15 19:18:51 -0400 (Wed, 15 Oct 2025) EndedAt: 2025-10-15 19:20:45 -0400 (Wed, 15 Oct 2025) EllapsedTime: 114.1 seconds RetCode: 0 Status: OK PackageFile: QUBIC_1.36.0.tar.gz PackageFileSize: 494.4 KiB