Package: QUBIC Version: 1.36.0 Command: /Library/Frameworks/R.framework/Resources/bin/R CMD build --keep-empty-dirs --no-resave-data QUBIC StartedAt: 2025-04-21 17:21:19 -0400 (Mon, 21 Apr 2025) EndedAt: 2025-04-21 17:22:03 -0400 (Mon, 21 Apr 2025) EllapsedTime: 43.5 seconds RetCode: 0 Status: OK PackageFile: QUBIC_1.36.0.tar.gz PackageFileSize: 493.7 KiB