Package: QUBIC Version: 1.36.0 Command: /Library/Frameworks/R.framework/Resources/bin/R CMD INSTALL QUBIC StartedAt: 2025-10-13 15:30:09 -0400 (Mon, 13 Oct 2025) EndedAt: 2025-10-13 15:30:46 -0400 (Mon, 13 Oct 2025) EllapsedTime: 36.4 seconds RetCode: 0 Status: OK