Package: QUBIC Version: 1.36.0 Command: /Library/Frameworks/R.framework/Resources/bin/R CMD check --install=check:QUBIC.install-out.txt --library=/Library/Frameworks/R.framework/Resources/library --no-vignettes --timings QUBIC_1.36.0.tar.gz StartedAt: 2025-10-15 08:46:09 -0400 (Wed, 15 Oct 2025) EndedAt: 2025-10-15 08:47:06 -0400 (Wed, 15 Oct 2025) EllapsedTime: 57.8 seconds RetCode: 0 Status: OK CheckDir: QUBIC.Rcheck Warnings: 0