Package: QUBIC Version: 1.36.0 Command: /Library/Frameworks/R.framework/Resources/bin/R CMD build --keep-empty-dirs --no-resave-data QUBIC StartedAt: 2025-10-14 07:11:07 -0400 (Tue, 14 Oct 2025) EndedAt: 2025-10-14 07:13:20 -0400 (Tue, 14 Oct 2025) EllapsedTime: 133.0 seconds RetCode: 0 Status: OK PackageFile: QUBIC_1.36.0.tar.gz PackageFileSize: 493.6 KiB