Package: QTLExperiment Version: 2.0.1 Command: E:\biocbuild\bbs-3.21-bioc\R\bin\R.exe CMD check --no-multiarch --install=check:QTLExperiment.install-out.txt --library=E:\biocbuild\bbs-3.21-bioc\R\library --no-vignettes --timings QTLExperiment_2.0.1.tar.gz StartedAt: 2025-08-15 05:45:15 -0400 (Fri, 15 Aug 2025) EndedAt: 2025-08-15 05:49:10 -0400 (Fri, 15 Aug 2025) EllapsedTime: 235.0 seconds RetCode: 0 Status: OK CheckDir: QTLExperiment.Rcheck Warnings: 0