Package: QTLExperiment Version: 2.0.1 Command: chmod a+r QTLExperiment -R && E:\biocbuild\bbs-3.21-bioc\R\bin\R.exe CMD build --keep-empty-dirs --no-resave-data QTLExperiment StartedAt: 2025-08-14 21:30:44 -0400 (Thu, 14 Aug 2025) EndedAt: 2025-08-14 21:31:43 -0400 (Thu, 14 Aug 2025) EllapsedTime: 59.0 seconds RetCode: 0 Status: OK PackageFile: QTLExperiment_2.0.1.tar.gz PackageFileSize: 612.3 KiB