Package: QTLExperiment Version: 2.0.1 Command: /Library/Frameworks/R.framework/Resources/bin/R CMD INSTALL QTLExperiment StartedAt: 2025-10-09 15:42:03 -0400 (Thu, 09 Oct 2025) EndedAt: 2025-10-09 15:42:59 -0400 (Thu, 09 Oct 2025) EllapsedTime: 55.6 seconds RetCode: 0 Status: OK