Package: QTLExperiment Version: 2.0.1 Command: rm -rf QTLExperiment.buildbin-libdir && mkdir QTLExperiment.buildbin-libdir && /Users/biocbuild/BBS/utils/build-universal.sh QTLExperiment_2.0.1.tar.gz /Library/Frameworks/R.framework/Resources/bin/R QTLExperiment.buildbin-libdir StartedAt: 2025-10-14 14:27:34 -0400 (Tue, 14 Oct 2025) EndedAt: 2025-10-14 14:28:49 -0400 (Tue, 14 Oct 2025) EllapsedTime: 75.2 seconds RetCode: 0 Status: OK PackageFile: QTLExperiment_2.0.1.tgz PackageFileSize: 1.143 MiB