Package: QFeatures Version: 1.20.0 Command: /home/biocbuild/bbs-3.22-bioc/R/bin/R CMD check --install=check:QFeatures.install-out.txt --library=/home/biocbuild/bbs-3.22-bioc/R/site-library --timings QFeatures_1.20.0.tar.gz StartedAt: 2025-11-10 03:12:02 -0500 (Mon, 10 Nov 2025) EndedAt: 2025-11-10 03:22:02 -0500 (Mon, 10 Nov 2025) EllapsedTime: 599.7 seconds RetCode: 0 Status: OK CheckDir: QFeatures.Rcheck Warnings: 0