Package: QFeatures Version: 1.20.0 Command: /home/biocbuild/bbs-3.22-bioc/R/bin/R CMD build --keep-empty-dirs --no-resave-data --md5 QFeatures StartedAt: 2025-11-09 19:34:17 -0500 (Sun, 09 Nov 2025) EndedAt: 2025-11-09 19:35:41 -0500 (Sun, 09 Nov 2025) EllapsedTime: 84.1 seconds RetCode: 0 Status: OK PackageFile: QFeatures_1.20.0.tar.gz PackageFileSize: 5.515 MiB