Package: PureCN Version: 2.16.0 Command: /home/biocbuild/bbs-3.22-bioc/R/bin/R CMD check --install=check:PureCN.install-out.txt --library=/home/biocbuild/bbs-3.22-bioc/R/site-library --timings PureCN_2.16.0.tar.gz StartedAt: 2025-11-18 07:25:27 -0500 (Tue, 18 Nov 2025) EndedAt: 2025-11-18 07:45:13 -0500 (Tue, 18 Nov 2025) EllapsedTime: 1186.5 seconds RetCode: 0 Status: OK CheckDir: PureCN.Rcheck Warnings: 0