Package: PureCN Version: 2.14.1 Command: /Library/Frameworks/R.framework/Resources/bin/R CMD INSTALL PureCN StartedAt: 2025-10-13 17:30:42 -0400 (Mon, 13 Oct 2025) EndedAt: 2025-10-13 17:31:41 -0400 (Mon, 13 Oct 2025) EllapsedTime: 58.9 seconds RetCode: 0 Status: OK