Package: ProteoDisco Version: 1.15.1 Command: /home/biocbuild/R/R/bin/R CMD check --install=check:ProteoDisco.install-out.txt --library=/home/biocbuild/R/R/site-library --no-vignettes --timings ProteoDisco_1.15.1.tar.gz StartedAt: 2025-10-17 12:25:06 -0000 (Fri, 17 Oct 2025) EndedAt: 2025-10-17 13:05:07 -0000 (Fri, 17 Oct 2025) EllapsedTime: 2400.7 seconds RetCode: None Status: TIMEOUT CheckDir: ProteoDisco.Rcheck Warnings: NA