Package: ProtGenerics Version: 1.42.0 Command: /home/biocbuild/bbs-3.22-bioc/R/bin/R CMD INSTALL ProtGenerics StartedAt: 2025-11-10 15:07:16 -0500 (Mon, 10 Nov 2025) EndedAt: 2025-11-10 15:07:30 -0500 (Mon, 10 Nov 2025) EllapsedTime: 14.3 seconds RetCode: 0 Status: OK