Package: ProtGenerics Version: 1.42.0 Command: /home/biocbuild/bbs-3.22-bioc/R/bin/R CMD check --install=check:ProtGenerics.install-out.txt --library=/home/biocbuild/bbs-3.22-bioc/R/site-library --timings ProtGenerics_1.42.0.tar.gz StartedAt: 2025-11-11 03:07:09 -0500 (Tue, 11 Nov 2025) EndedAt: 2025-11-11 03:07:27 -0500 (Tue, 11 Nov 2025) EllapsedTime: 18.0 seconds RetCode: 0 Status: OK CheckDir: ProtGenerics.Rcheck Warnings: 0