Package: Prostar Version: 1.42.0 Command: /home/biocbuild/R/R/bin/R CMD INSTALL Prostar StartedAt: 2025-11-17 21:50:43 -0000 (Mon, 17 Nov 2025) EndedAt: 2025-11-17 21:51:36 -0000 (Mon, 17 Nov 2025) EllapsedTime: 53.8 seconds RetCode: 0 Status: OK