Package: Prostar Version: 1.42.0 Command: /home/biocbuild/R/R/bin/R CMD build --keep-empty-dirs --no-resave-data Prostar StartedAt: 2025-11-18 04:08:32 -0000 (Tue, 18 Nov 2025) EndedAt: 2025-11-18 04:09:28 -0000 (Tue, 18 Nov 2025) EllapsedTime: 56.0 seconds RetCode: 0 Status: OK PackageFile: Prostar_1.42.0.tar.gz PackageFileSize: 4.225 MiB