Package: PrInCE Version: 1.25.0 Command: F:\biocbuild\bbs-3.22-bioc\R\bin\R.exe CMD INSTALL PrInCE StartedAt: 2025-08-14 16:28:26 -0400 (Thu, 14 Aug 2025) EndedAt: 2025-08-14 16:29:40 -0400 (Thu, 14 Aug 2025) EllapsedTime: 74.0 seconds RetCode: 0 Status: OK