Package: Polytect Version: 1.0.0 Command: E:\biocbuild\bbs-3.21-bioc\R\bin\R.exe CMD check --no-multiarch --install=check:Polytect.install-out.txt --library=E:\biocbuild\bbs-3.21-bioc\R\library --no-vignettes --timings Polytect_1.0.0.tar.gz StartedAt: 2025-08-15 05:31:25 -0400 (Fri, 15 Aug 2025) EndedAt: 2025-08-15 05:33:48 -0400 (Fri, 15 Aug 2025) EllapsedTime: 143.3 seconds RetCode: 0 Status: OK CheckDir: Polytect.Rcheck Warnings: 0