Package: Polytect Version: 1.0.0 Command: chmod a+r Polytect -R && E:\biocbuild\bbs-3.21-bioc\R\bin\R.exe CMD build --keep-empty-dirs --no-resave-data Polytect StartedAt: 2025-08-14 21:21:57 -0400 (Thu, 14 Aug 2025) EndedAt: 2025-08-14 21:25:40 -0400 (Thu, 14 Aug 2025) EllapsedTime: 222.3 seconds RetCode: 0 Status: OK PackageFile: Polytect_1.0.0.tar.gz PackageFileSize: 1.99 MiB